BEGIN:VCALENDAR
VERSION:2.0
PRODID:-//Aussie Bird Count - ECPv6.15.11//NONSGML v1.0//EN
CALSCALE:GREGORIAN
METHOD:PUBLISH
X-ORIGINAL-URL:https://aussiebirdcount.org.au
X-WR-CALDESC:Events for Aussie Bird Count
REFRESH-INTERVAL;VALUE=DURATION:PT1H
X-Robots-Tag:noindex
X-PUBLISHED-TTL:PT1H
BEGIN:VTIMEZONE
TZID:Australia/Melbourne
BEGIN:STANDARD
TZOFFSETFROM:+1100
TZOFFSETTO:+1000
TZNAME:AEST
DTSTART:20180331T160000
END:STANDARD
BEGIN:DAYLIGHT
TZOFFSETFROM:+1000
TZOFFSETTO:+1100
TZNAME:AEDT
DTSTART:20181006T160000
END:DAYLIGHT
BEGIN:STANDARD
TZOFFSETFROM:+1100
TZOFFSETTO:+1000
TZNAME:AEST
DTSTART:20190406T160000
END:STANDARD
BEGIN:DAYLIGHT
TZOFFSETFROM:+1000
TZOFFSETTO:+1100
TZNAME:AEDT
DTSTART:20191005T160000
END:DAYLIGHT
BEGIN:STANDARD
TZOFFSETFROM:+1100
TZOFFSETTO:+1000
TZNAME:AEST
DTSTART:20200404T160000
END:STANDARD
BEGIN:DAYLIGHT
TZOFFSETFROM:+1000
TZOFFSETTO:+1100
TZNAME:AEDT
DTSTART:20201003T160000
END:DAYLIGHT
END:VTIMEZONE
BEGIN:VEVENT
DTSTART;VALUE=DATE:20191010
DTEND;VALUE=DATE:20191028
DTSTAMP:20260425T111511
CREATED:20190926T014911Z
LAST-MODIFIED:20190926T015558Z
UID:2565-1570665600-1572220799@aussiebirdcount.org.au
SUMMARY:NSW: Parrots -  A Bird Week photography exhibition
DESCRIPTION:Angela Robertson-Buchanan\, Egg Picnic and Fiona Roderick are hosting a collaborative exhibition during Bird Week\, with 20% of sales donated to BirdLife Australia. This exhibition will showcase some incredible bird images that aim to inspire more Australians to support bird conservation and learn about their local birdlife.
URL:https://aussiebirdcount.org.au/event/nsw-parrots-a-bird-week-photography-exhibition/
LOCATION:The Corner Gallery\, Percival Rd & Myrtle St\, Stanmore\, NSW\, Australia
ORGANIZER;CN="Angela Robertson-Buchanan":MAILTO:angela@angelarobertsonbuchanan.com
END:VEVENT
BEGIN:VEVENT
DTSTART;TZID=Australia/Melbourne:20191027T073000
DTEND;TZID=Australia/Melbourne:20191027T103000
DTSTAMP:20260425T111511
CREATED:20190928T012739Z
LAST-MODIFIED:20190928T012739Z
UID:2594-1572161400-1572172200@aussiebirdcount.org.au
SUMMARY:SA: Breakfast with the Birds at Australian Arid Lands Botanic Garden\, Port Augusta
DESCRIPTION:Join local Bird Guru Peter Langdon for a fun & informative walk in our beautiful garden looking & listening for our wide range of birds. Following the bird tour\, join Peter in our Bluebush Café (in our visitor centre) for a cooked breakfast\, a cuppa & a chat. Bookings essential as numbers are limited.
URL:https://aussiebirdcount.org.au/event/sa-breakfast-with-the-birds-at-australian-arid-lands-botanic-garden-port-augusta/
LOCATION:Australian Arid Lands Botanic Garden\, 144 Stuart Highway\, Port Augusta\, SA\, 5700\, Australia
ORGANIZER;CN="Bernadette or Marie":MAILTO:info@aalbg.sa.gov.au
END:VEVENT
BEGIN:VEVENT
DTSTART;TZID=Australia/Melbourne:20191027T080000
DTEND;TZID=Australia/Melbourne:20191027T100000
DTSTAMP:20260425T111511
CREATED:20191004T062949Z
LAST-MODIFIED:20191004T063449Z
UID:2622-1572163200-1572170400@aussiebirdcount.org.au
SUMMARY:NSW: Breakfast with the birds at Sydney Park
DESCRIPTION:Dr Holly Parsons from BirdLife Australia will take a group of early risers through the wetland area of Sydney Park and show us some of the delightful birds that call this park home. \nHolly has extensive experience in environmental education and a wealth of knowledge about birds in Sydney\, and how we can help look after their natural habitat. \nSuitable for ages over 8 years. Parents or carers must accompany children under 16 years. \nThis event celebrates National Bird Week from Monday 21 to Sunday 27 October. \n$5 for adult tickets\, $2.50 for concession holders. \nBreakfast will be provided.
URL:https://aussiebirdcount.org.au/event/nsw-breakfast-with-the-birds-at-sydney-park/
LOCATION:Sydney Park Kiosk\, Sydney Park\, Sydney Park Rd\, St Peters\, NSW\, 2044\, Australia
END:VEVENT
BEGIN:VEVENT
DTSTART;TZID=Australia/Melbourne:20191027T080000
DTEND;TZID=Australia/Melbourne:20191027T103000
DTSTAMP:20260425T111511
CREATED:20190928T003056Z
LAST-MODIFIED:20190928T003056Z
UID:2575-1572163200-1572172200@aussiebirdcount.org.au
SUMMARY:NSW: Birds on the mount: A guided bird walk at Mount Panorama
DESCRIPTION:Join local bird expert\, Tiffany Mason\, on a guided bird watching tour of the beautiful Albens Reserve\, Mount Panorama\, followed by morning tea. We will stroll along paths and paddocks in search of our beautiful native birds in the grassy box-gum woodland. This reserve is only open to the public a few days per year. Here is your chance to see a little piece of the endangered woodland right in Bathurst’s back yard. Enter off Mountain Straight – look for the Council banner at the entrance road.
URL:https://aussiebirdcount.org.au/event/nsw-birds-on-the-mount-a-guided-bird-walk-at-mount-panorama/
LOCATION:Mount Panorama\, Mountain Straight\, Mount Panorama\, NSW\, 2795\, Australia
ORGANIZER;CN="Joel Little":MAILTO:joel.little@bathurst.nsw.gov.au
END:VEVENT
BEGIN:VEVENT
DTSTART;TZID=Australia/Melbourne:20191027T084500
DTEND;TZID=Australia/Melbourne:20191027T110000
DTSTAMP:20260425T111511
CREATED:20191020T223738Z
LAST-MODIFIED:20191020T223738Z
UID:2793-1572165900-1572174000@aussiebirdcount.org.au
SUMMARY:NSW: Crosslands Reserve Aussie Backyard Bird Count
DESCRIPTION:Bookings Essential as numbers are limited. \nJoin the Friends of Berowra Valley as we partake in the Aussie Backyard Bird Count 2019 at Crosslands Reserve\, Berowra Valley National Park. \nBe part of a citizen science event called the Aussie Backyard Bird Count. This will be an enjoyable family-fun event organised by the Friends of Berowra Valley. Come along to sight and record our local bird species\, meet like-minded people and have a lovely morning tea in the bush. Numbers are limited so please book today. \nWe will met at 8.45am for a 9am start. We will complete two 20min bird surveys. No experience or equipment necessary. Meet at the end of the carpark at Crosslands Reserve\, Hornsby Heights. \nWe will be going on a short bushwalk\, so suitable shoes are recommended. Please bring a hat and water. We will supply morning tea. \nThe Friends of Berowra Valley is a local volunteer conservation group aiming to conserve the natural environment of the Berowra Valley and surrounds. \nThis is a family event although we will ask that noise be kept to a minimum during the bird surveys. No experience or equipment is necessary\, but feel free to bring your binoculars. \nBookings are essential. Please let us know if you cannot make it so other people can come along. Thanks and hope to see you there.
URL:https://aussiebirdcount.org.au/event/nsw-crosslands-reserve-aussie-backyard-bird-count/
LOCATION:Crosslands Reserve\, Somerville Road\, Hornsby Heights\, NSW\, 2077\, Australia
END:VEVENT
BEGIN:VEVENT
DTSTART;TZID=Australia/Melbourne:20191027T090000
DTEND;TZID=Australia/Melbourne:20191027T140000
DTSTAMP:20260425T111511
CREATED:20190928T021229Z
LAST-MODIFIED:20190928T021301Z
UID:2609-1572166800-1572184800@aussiebirdcount.org.au
SUMMARY:VIC: Bird Count at the Mildura Riverfront
DESCRIPTION:Come and join representatives from the Mildura Rural City Council on the Mildura Riverfront to undertake bird counts for the 2019 Aussie Backyard Bird Count.
URL:https://aussiebirdcount.org.au/event/vic-bird-count-at-the-mildura-riverfront/
LOCATION:Mildura Riverfront\, High King Drive\, Mildura\, VIC\, 3500\, Australia
ORGANIZER;CN="Shaphal Subedi":MAILTO:Shaphal.Subedi@mildura.vic.gov.au
END:VEVENT
END:VCALENDAR