BEGIN:VCALENDAR
VERSION:2.0
PRODID:-//Aussie Bird Count - ECPv6.15.11//NONSGML v1.0//EN
CALSCALE:GREGORIAN
METHOD:PUBLISH
X-WR-CALNAME:Aussie Bird Count
X-ORIGINAL-URL:https://aussiebirdcount.org.au
X-WR-CALDESC:Events for Aussie Bird Count
REFRESH-INTERVAL;VALUE=DURATION:PT1H
X-Robots-Tag:noindex
X-PUBLISHED-TTL:PT1H
BEGIN:VTIMEZONE
TZID:Australia/Melbourne
BEGIN:STANDARD
TZOFFSETFROM:+1100
TZOFFSETTO:+1000
TZNAME:AEST
DTSTART:20180331T160000
END:STANDARD
BEGIN:DAYLIGHT
TZOFFSETFROM:+1000
TZOFFSETTO:+1100
TZNAME:AEDT
DTSTART:20181006T160000
END:DAYLIGHT
BEGIN:STANDARD
TZOFFSETFROM:+1100
TZOFFSETTO:+1000
TZNAME:AEST
DTSTART:20190406T160000
END:STANDARD
BEGIN:DAYLIGHT
TZOFFSETFROM:+1000
TZOFFSETTO:+1100
TZNAME:AEDT
DTSTART:20191005T160000
END:DAYLIGHT
BEGIN:STANDARD
TZOFFSETFROM:+1100
TZOFFSETTO:+1000
TZNAME:AEST
DTSTART:20200404T160000
END:STANDARD
BEGIN:DAYLIGHT
TZOFFSETFROM:+1000
TZOFFSETTO:+1100
TZNAME:AEDT
DTSTART:20201003T160000
END:DAYLIGHT
END:VTIMEZONE
BEGIN:VEVENT
DTSTART;TZID=Australia/Melbourne:20191024T173000
DTEND;TZID=Australia/Melbourne:20191024T190000
DTSTAMP:20260425T125217
CREATED:20191004T063624Z
LAST-MODIFIED:20191004T063635Z
UID:2684-1571938200-1571943600@aussiebirdcount.org.au
SUMMARY:NSW: Peregrine falcons of the CBD
DESCRIPTION:Join Cilia Kinross on an early evening adventure in the CBD to find the infamous Peregrine Falcons of the city. We will be using bincolulars to look for these incredible birds of prey and learn about the work that is being carried out at Charles Sturt University to keep track of Peregrine Falcon nests – called Falcam. The event is suitable for all ages and is perfect for anyone who wants to know more about Peregine Falcons that call Sydney home. \nNational Bird Week acknowledges our important and unique Australian birdlife and aims to inspire Australians to take action and get involved in bird conservation efforts. \nSuitable for: Ages over 8 \nWhat you will learn:\n– About urban nocturnal bird life\n– Importance of urban habitat for our nocturnal birds \nNote: Parents must accompany children
URL:https://aussiebirdcount.org.au/event/nsw-peregrine-falcons-of-the-city/
LOCATION:Customs House\, 31 Alfred Street\, Sydney\, NSW\, 2000\, Australia
END:VEVENT
BEGIN:VEVENT
DTSTART;TZID=Australia/Melbourne:20191021T090000
DTEND;TZID=Australia/Melbourne:20191021T103000
DTSTAMP:20260425T125217
CREATED:20191004T051440Z
LAST-MODIFIED:20191004T051505Z
UID:2667-1571648400-1571653800@aussiebirdcount.org.au
SUMMARY:WA: 'How to become an Aussie Backyard Bird Counter' at Lake Sepping
DESCRIPTION:The Albany Bird Group will take you on a guided walk around Lake Seppings to discover the birdlife of the area.
URL:https://aussiebirdcount.org.au/event/wa-how-to-become-an-aussie-backyard-bird-counter-at-lake-sepping/
LOCATION:Lake Sepping\, Corner of Anzac Road and Lake Seppings Drive\, Seppings\, WA\, 6330\, Australia
ORGANIZER;CN="Jacqui Freeman":MAILTO:jacqui.freeman@albany.wa.gov.au
END:VEVENT
BEGIN:VEVENT
DTSTART;TZID=Australia/Melbourne:20191020T100000
DTEND;TZID=Australia/Melbourne:20191020T120000
DTSTAMP:20260425T125217
CREATED:20190928T015449Z
LAST-MODIFIED:20190928T015646Z
UID:2601-1571565600-1571572800@aussiebirdcount.org.au
SUMMARY:VIC: Backyard Bird Count at Rippon Lea Estate
DESCRIPTION:With Birdlife Australia we are inviting residents to get involved in bird watching for our Nature Next Door citizen science program and get involved in the Aussie Backyard Bird Count. \nAt this workshop you will learn how to identify the birds likely to be found in Glen Eira and how to take part in the Aussie Backyard Bird Count. \nThe workshop will involve a presentation by Leap into Nature’s Christina Renowden\, followed by a ‘bird walk and talk’ around the beautiful gardens at Rippon Lea Estate. Residents are encouraged to take part in this workshop to become informed and inspired to take part as a citizen scientist in our Nature Next Door program. \nWe will also have a quiet bird-inspired art and craft corner for younger members of the family. Bring your own binoculars if you have them. \nThis event will be run as part of Rippon Lea Estate’s Botanica Festival. \nSpeakers:\nLeap into Nature’s Christina Renowden \nThis is a free event and bookings are essential.
URL:https://aussiebirdcount.org.au/event/vic-glen-eira-backyard-bird-count/
LOCATION:Rippon Lea Estate\, 192 Hotham Street\, Elsternwick\, VIC\, 3185\, Australia
ORGANIZER;CN="Elizabeth Blake":MAILTO:eblake@gleneira.gov.vic.au
END:VEVENT
BEGIN:VEVENT
DTSTART;TZID=Australia/Melbourne:20191020T090000
DTEND;TZID=Australia/Melbourne:20191020T103000
DTSTAMP:20260425T125217
CREATED:20191004T064022Z
LAST-MODIFIED:20191004T064022Z
UID:2693-1571562000-1571567400@aussiebirdcount.org.au
SUMMARY:NSW: Creating habitat havens for urban birds in Forest Lodge
DESCRIPTION:Join Sophie Golding\, the City’s Urban Ecologist\, on an early adventure to find some habitat havens in Forest Lodge. Participants will visit a site where volunteers have been working to create a demonstration habitat haven. These sites are based on well considered design principles with the objective of attracting native birds and others to the site. We will also walk through this site to explore and listen out for birds using the area. The morning is suitable for all ages and is perfect for anyone who wants to know more about how to create habitat in our urban landscape. \nNational Bird Week acknowledges our important and unique Australian birdlife and aims to inspire Australians to take action and get involved in bird conservation efforts. \nSuitable for: Ages over 8 \nWhat you will learn:\n– About the principles behind “habitat havens”\n– Importance of urban habitat for our native birds \nNote: Parents must accompany children
URL:https://aussiebirdcount.org.au/event/nsw-creating-habitat-havens-for-urban-birds-in-forest-lodge/
LOCATION:Orphan School Creek Playground\, 20 Wood Street\, Forest Lodge\, NSW\, 2037\, Australia
END:VEVENT
BEGIN:VEVENT
DTSTART;TZID=Australia/Melbourne:20191019T133000
DTEND;TZID=Australia/Melbourne:20191019T150000
DTSTAMP:20260425T125217
CREATED:20191014T043655Z
LAST-MODIFIED:20191014T043655Z
UID:2763-1571491800-1571497200@aussiebirdcount.org.au
SUMMARY:NSW: Talking Birds\, Willoughby Council
DESCRIPTION:Join us for a talk by Dr Holly Parsons from Birdlife Australia who will be talking about urban bird species and how you can help to ensure their long term survival in our local area. Dr Parsons is the NSW-based Program Manager for Birds in Backyards and has been involved since the program began back in 1999. \nLight refreshments will be supplied and you will have the chance to meet the presenter and fellow attendees. \nThe event will be in Waverton\, will full address details provided after booking. \nBook here:  https://www.willoughby.nsw.gov.au/EventDetails.aspx?PageID=1892&eventid=6295
URL:https://aussiebirdcount.org.au/event/nsw-talking-birds-willoughby-council/
END:VEVENT
BEGIN:VEVENT
DTSTART;TZID=Australia/Melbourne:20191019T080000
DTEND;TZID=Australia/Melbourne:20191019T100000
DTSTAMP:20260425T125217
CREATED:20190928T004741Z
LAST-MODIFIED:20190928T004741Z
UID:2583-1571472000-1571479200@aussiebirdcount.org.au
SUMMARY:NSW: Breakfast with the Birds at Lane Cove
DESCRIPTION:Come spotting for wrens\, honeyeaters and other birds and gain tips on identifying different birds from our experienced bird watcher.\nDiscover more about local birds on this guided walk and together we will complete a bird survey – good practice for the Aussie Backyard Bird Count!\nAll welcome\, light refreshments provided. Bookings essential.
URL:https://aussiebirdcount.org.au/event/nsw-breakfast-with-the-birds-at-lane-cove/
LOCATION:Lane Cove\, Batten Reserve\, Lane Cove\, NSW\, 2066\, Australia
END:VEVENT
BEGIN:VEVENT
DTSTART;TZID=Australia/Melbourne:20191019T073000
DTEND;TZID=Australia/Melbourne:20191019T100000
DTSTAMP:20260425T125217
CREATED:20191014T045600Z
LAST-MODIFIED:20191014T045600Z
UID:2765-1571470200-1571479200@aussiebirdcount.org.au
SUMMARY:NSW: Wildlife Watching Birds\, Willoughby Council
DESCRIPTION:Judy Christie\, naturalist and birder will be sharing tips on birdwatching\, local bird species and habitats and how to take part in the AussieBirdCount.org.au\, one of Australia’s most successful citizen science projects. We will also repeat our regular birdcount along Lane Cove River and end the walk with a refreshing morning tea. \nThis walk is suitable for adults. If children would like to come please contact the organiser. \nLocation: Lane Cove North (full address details on booking)
URL:https://aussiebirdcount.org.au/event/nsw-wildlife-watching-birds-willoughby-council/
END:VEVENT
BEGIN:VEVENT
DTSTART;TZID=Australia/Melbourne:20191017T190000
DTEND;TZID=Australia/Melbourne:20191017T203000
DTSTAMP:20260425T125217
CREATED:20191014T043333Z
LAST-MODIFIED:20191014T043333Z
UID:2759-1571338800-1571344200@aussiebirdcount.org.au
SUMMARY:VIC: Bird Attracting Gardening\, Lismore Hotel
DESCRIPTION:Learn about how to make your garden more attractive to birds with Lismore Land Protection Group\, with guest speakers Holly Parsons and Michael Emerson.
URL:https://aussiebirdcount.org.au/event/vic-bird-attracting-gardening-lismore-hotel/
LOCATION:Lismore Hotel\, Lismore Hotel\, 1 High Street\, Lismore\, VIC\, 3324\, Australia
END:VEVENT
BEGIN:VEVENT
DTSTART;TZID=Australia/Melbourne:20191015T070000
DTEND;TZID=Australia/Melbourne:20191015T110000
DTSTAMP:20260425T125217
CREATED:20191012T062615Z
LAST-MODIFIED:20191012T062615Z
UID:2731-1571122800-1571137200@aussiebirdcount.org.au
SUMMARY:NSW: 'Breakfast with the Birds' at Cowra
DESCRIPTION:
URL:https://aussiebirdcount.org.au/event/nsw-breakfast-with-the-birds-at-cowra/
LOCATION:JT Pridham Conference Centre\, Cowra Agricultural Research and Advisory Station\, Binni Creek Road\, Cowra\, NSW\, 2794\, Australia
ORGANIZER;CN="Central Tablelands Local Land Services":MAILTO:edmund.hogan@lls.nsw.gov.au
END:VEVENT
END:VCALENDAR